BEGIN:VCALENDAR
VERSION:2.0
PRODID:-//SV Wendelskirchen e.V. - ECPv6.15.20//NONSGML v1.0//EN
CALSCALE:GREGORIAN
METHOD:PUBLISH
X-ORIGINAL-URL:https://www.sv-wendelskirchen.de
X-WR-CALDESC:Veranstaltungen für SV Wendelskirchen e.V.
REFRESH-INTERVAL;VALUE=DURATION:PT1H
X-Robots-Tag:noindex
X-PUBLISHED-TTL:PT1H
BEGIN:VTIMEZONE
TZID:Europe/Berlin
BEGIN:DAYLIGHT
TZOFFSETFROM:+0100
TZOFFSETTO:+0200
TZNAME:CEST
DTSTART:20250330T010000
END:DAYLIGHT
BEGIN:STANDARD
TZOFFSETFROM:+0200
TZOFFSETTO:+0100
TZNAME:CET
DTSTART:20251026T010000
END:STANDARD
BEGIN:DAYLIGHT
TZOFFSETFROM:+0100
TZOFFSETTO:+0200
TZNAME:CEST
DTSTART:20260329T010000
END:DAYLIGHT
BEGIN:STANDARD
TZOFFSETFROM:+0200
TZOFFSETTO:+0100
TZNAME:CET
DTSTART:20261025T010000
END:STANDARD
BEGIN:DAYLIGHT
TZOFFSETFROM:+0100
TZOFFSETTO:+0200
TZNAME:CEST
DTSTART:20270328T010000
END:DAYLIGHT
BEGIN:STANDARD
TZOFFSETFROM:+0200
TZOFFSETTO:+0100
TZNAME:CET
DTSTART:20271031T010000
END:STANDARD
END:VTIMEZONE
BEGIN:VEVENT
DTSTART;TZID=Europe/Berlin:20260307T140000
DTEND;TZID=Europe/Berlin:20260307T160000
DTSTAMP:20260420T075023
CREATED:20260226T195534Z
LAST-MODIFIED:20260226T195534Z
UID:2776-1772892000-1772899200@www.sv-wendelskirchen.de
SUMMARY:(SG) FC Aham - SC Ruhstorf (A-Junioren)
DESCRIPTION:
URL:https://www.sv-wendelskirchen.de/event/sg-fc-aham-sc-ruhstorf-a-junioren/
LOCATION:Alex Sonntag Arena\, Aham\, Dreifaltigkeitsstraße 20\, Aham\, Bayern\, 84168\, Deutschland
CATEGORIES:Jugendfußball
END:VEVENT
BEGIN:VEVENT
DTSTART;TZID=Europe/Berlin:20260314T150000
DTEND;TZID=Europe/Berlin:20260314T170000
DTSTAMP:20260420T075023
CREATED:20260212T200851Z
LAST-MODIFIED:20260212T200851Z
UID:2745-1773500400-1773507600@www.sv-wendelskirchen.de
SUMMARY:TSV Niederviehbach - SVW II
DESCRIPTION:
URL:https://www.sv-wendelskirchen.de/event/tsv-niederviehbach-svw-ii/
LOCATION:Sportanlage Niederviehbach\, Schulstraße\, Niederviehbach\, Bayern\, 84183\, Germany
CATEGORIES:Seniorenfußball
END:VEVENT
BEGIN:VEVENT
DTSTART;TZID=Europe/Berlin:20260322T130000
DTEND;TZID=Europe/Berlin:20260322T150000
DTSTAMP:20260420T075023
CREATED:20260212T201250Z
LAST-MODIFIED:20260212T201250Z
UID:2747-1774184400-1774191600@www.sv-wendelskirchen.de
SUMMARY:(SG) Weihmichl/Neuhausen II - SVW II
DESCRIPTION:
URL:https://www.sv-wendelskirchen.de/event/sg-weihmichl-neuhausen-ii-svw-ii/
LOCATION:Sportanlage Neuhausen\, Bräu-Taferl-Weg 3\, Weihmichl\, Bayern\, 84107\, Germany
CATEGORIES:Seniorenfußball
END:VEVENT
BEGIN:VEVENT
DTSTART;TZID=Europe/Berlin:20260322T150000
DTEND;TZID=Europe/Berlin:20260322T170000
DTSTAMP:20260420T075023
CREATED:20260212T193638Z
LAST-MODIFIED:20260212T193638Z
UID:2711-1774191600-1774198800@www.sv-wendelskirchen.de
SUMMARY:(SG) Weihmichl/Neuhausen - SVW
DESCRIPTION:
URL:https://www.sv-wendelskirchen.de/event/sg-weihmichl-neuhausen-svw/
LOCATION:Sportanlage Neuhausen\, Bräu-Taferl-Weg 3\, Weihmichl\, Bayern\, 84107\, Germany
END:VEVENT
BEGIN:VEVENT
DTSTART;TZID=Europe/Berlin:20260329T130000
DTEND;TZID=Europe/Berlin:20260329T150000
DTSTAMP:20260420T075023
CREATED:20260212T201411Z
LAST-MODIFIED:20260212T201411Z
UID:2749-1774789200-1774796400@www.sv-wendelskirchen.de
SUMMARY:SVW II - SV Gündlkofen II
DESCRIPTION:
URL:https://www.sv-wendelskirchen.de/event/svw-ii-sv-guendlkofen-ii/
LOCATION:Sportanlage Wendelskirchen\, Schulweg 8\, Wendelskirchen\, Bayern\, 84180\, Germany
CATEGORIES:Seniorenfußball
END:VEVENT
BEGIN:VEVENT
DTSTART;TZID=Europe/Berlin:20260329T150000
DTEND;TZID=Europe/Berlin:20260329T170000
DTSTAMP:20260420T075023
CREATED:20260212T194144Z
LAST-MODIFIED:20260212T194144Z
UID:2714-1774796400-1774803600@www.sv-wendelskirchen.de
SUMMARY:SVW - SV Gündlkofen
DESCRIPTION:
URL:https://www.sv-wendelskirchen.de/event/svw-sv-guendlkofen/
LOCATION:Sportanlage Wendelskirchen\, Schulweg 8\, Wendelskirchen\, Bayern\, 84180\, Germany
CATEGORIES:Seniorenfußball
END:VEVENT
END:VCALENDAR