BEGIN:VCALENDAR
VERSION:2.0
PRODID:-//SV Wendelskirchen e.V. - ECPv6.15.20//NONSGML v1.0//EN
CALSCALE:GREGORIAN
METHOD:PUBLISH
X-ORIGINAL-URL:https://www.sv-wendelskirchen.de
X-WR-CALDESC:Veranstaltungen für SV Wendelskirchen e.V.
REFRESH-INTERVAL;VALUE=DURATION:PT1H
X-Robots-Tag:noindex
X-PUBLISHED-TTL:PT1H
BEGIN:VTIMEZONE
TZID:Europe/Berlin
BEGIN:DAYLIGHT
TZOFFSETFROM:+0100
TZOFFSETTO:+0200
TZNAME:CEST
DTSTART:20250330T010000
END:DAYLIGHT
BEGIN:STANDARD
TZOFFSETFROM:+0200
TZOFFSETTO:+0100
TZNAME:CET
DTSTART:20251026T010000
END:STANDARD
BEGIN:DAYLIGHT
TZOFFSETFROM:+0100
TZOFFSETTO:+0200
TZNAME:CEST
DTSTART:20260329T010000
END:DAYLIGHT
BEGIN:STANDARD
TZOFFSETFROM:+0200
TZOFFSETTO:+0100
TZNAME:CET
DTSTART:20261025T010000
END:STANDARD
BEGIN:DAYLIGHT
TZOFFSETFROM:+0100
TZOFFSETTO:+0200
TZNAME:CEST
DTSTART:20270328T010000
END:DAYLIGHT
BEGIN:STANDARD
TZOFFSETFROM:+0200
TZOFFSETTO:+0100
TZNAME:CET
DTSTART:20271031T010000
END:STANDARD
END:VTIMEZONE
BEGIN:VEVENT
DTSTART;TZID=Europe/Berlin:20260419T130000
DTEND;TZID=Europe/Berlin:20260419T150000
DTSTAMP:20260420T062142
CREATED:20260212T201636Z
LAST-MODIFIED:20260212T201745Z
UID:2753-1776603600-1776610800@www.sv-wendelskirchen.de
SUMMARY:TSV Vilslern II - SVW II
DESCRIPTION:
URL:https://www.sv-wendelskirchen.de/event/tsv-vilslern-ii-svw-ii/
LOCATION:Sportanlage Vilslern\, Dorfstraße 40\, Velden\, Bayern\, 84149\, Germany
CATEGORIES:Seniorenfußball
END:VEVENT
BEGIN:VEVENT
DTSTART;TZID=Europe/Berlin:20260419T150000
DTEND;TZID=Europe/Berlin:20260419T170000
DTSTAMP:20260420T062142
CREATED:20260212T194905Z
LAST-MODIFIED:20260212T194905Z
UID:2721-1776610800-1776618000@www.sv-wendelskirchen.de
SUMMARY:TSV Vilslern - SVW
DESCRIPTION:
URL:https://www.sv-wendelskirchen.de/event/tsv-vilslern-svw/
LOCATION:Sportanlage Vilslern\, Dorfstraße 40\, Velden\, Bayern\, 84149\, Germany
CATEGORIES:Seniorenfußball
END:VEVENT
END:VCALENDAR