BEGIN:VCALENDAR
VERSION:2.0
PRODID:-//SV Wendelskirchen e.V. - ECPv6.15.20//NONSGML v1.0//EN
CALSCALE:GREGORIAN
METHOD:PUBLISH
X-ORIGINAL-URL:https://www.sv-wendelskirchen.de
X-WR-CALDESC:Veranstaltungen für SV Wendelskirchen e.V.
REFRESH-INTERVAL;VALUE=DURATION:PT1H
X-Robots-Tag:noindex
X-PUBLISHED-TTL:PT1H
BEGIN:VTIMEZONE
TZID:Europe/Berlin
BEGIN:DAYLIGHT
TZOFFSETFROM:+0100
TZOFFSETTO:+0200
TZNAME:CEST
DTSTART:20250330T010000
END:DAYLIGHT
BEGIN:STANDARD
TZOFFSETFROM:+0200
TZOFFSETTO:+0100
TZNAME:CET
DTSTART:20251026T010000
END:STANDARD
BEGIN:DAYLIGHT
TZOFFSETFROM:+0100
TZOFFSETTO:+0200
TZNAME:CEST
DTSTART:20260329T010000
END:DAYLIGHT
BEGIN:STANDARD
TZOFFSETFROM:+0200
TZOFFSETTO:+0100
TZNAME:CET
DTSTART:20261025T010000
END:STANDARD
BEGIN:DAYLIGHT
TZOFFSETFROM:+0100
TZOFFSETTO:+0200
TZNAME:CEST
DTSTART:20270328T010000
END:DAYLIGHT
BEGIN:STANDARD
TZOFFSETFROM:+0200
TZOFFSETTO:+0100
TZNAME:CET
DTSTART:20271031T010000
END:STANDARD
END:VTIMEZONE
BEGIN:VEVENT
DTSTART;TZID=Europe/Berlin:20260307T140000
DTEND;TZID=Europe/Berlin:20260307T160000
DTSTAMP:20260422T104224
CREATED:20260226T195534Z
LAST-MODIFIED:20260226T195534Z
UID:2776-1772892000-1772899200@www.sv-wendelskirchen.de
SUMMARY:(SG) FC Aham - SC Ruhstorf (A-Junioren)
DESCRIPTION:
URL:https://www.sv-wendelskirchen.de/event/sg-fc-aham-sc-ruhstorf-a-junioren/
LOCATION:Alex Sonntag Arena\, Aham\, Dreifaltigkeitsstraße 20\, Aham\, Bayern\, 84168\, Deutschland
CATEGORIES:Jugendfußball
END:VEVENT
END:VCALENDAR